BEGIN:VCALENDAR
VERSION:2.0
CALSCALE:GREGORIAN
PRODID:adamgibbons/ics
METHOD:PUBLISH
X-PUBLISHED-TTL:PT1H
BEGIN:VEVENT
UID:15@bootblack.events
SUMMARY:Pine\, UK BB & BBE\, presents 'Bootblacking: Leather\, Service\, De
	sire' (workshop)
DTSTAMP:20260424T165423Z
DTSTART:20241013T110000Z
DTEND:20241013T160000Z
URL:https://bootblack.events/event/pine-uk-bb-and-bbe-presents-bootblacking
	-leather-service-desire-workshop
LOCATION:SWAMP\, Bristol\, UK - Frog Lane\, Bristol\, BS1 5UX
STATUS:CONFIRMED
CATEGORIES:UK,Workshop,Bristol
END:VEVENT
END:VCALENDAR
